BEGIN:VCALENDAR
PRODID:-//eluceo/ical//2.0/EN
VERSION:2.0
CALSCALE:GREGORIAN
BEGIN:VEVENT
UID:event-39
DTSTAMP:20260424T135504Z
SUMMARY:Digitale Transformatie
DESCRIPTION:Het zijn turbulente tijden in de bouwsector\; klanten vragen st
 eeds meer\, arbeidstekorten\, PFAS\, woningnood... en ga zo maar door. Om 
 deze uitdagingen het hoofd te bieden en snel in te kunnen spelen op een ve
 randerende klantvraag zetten organisaties in de sector sterk in op "digita
 le transformatie". Maar hoe doe je dat nu eigenlijk? Wat zijn de Do's &amp
 \; Don'ts? Tijdens dit event beantwoorden we deze vragen en meer! Een and
 ere datum én een andere locatie! We verwelkomen je graag op 17 februari i
 n het prachtige Locatie78 te Bunnik. Een veelzijdige en gastvrije locatie\
 , centraal gelegen in ons land. Let op: Bij aankomst op de locatie wordt g
 evraagd om een coronatoegangsbewijs. Programma: 15:30 Een heel fijn welkom
  16.00 Introductie door onze voorzitter Maarten 16.15 Henry Been - Onafhan
 kelijk architect en developer\, Microsoft MVP en schijver van het boek "Im
 plementing Azure DevOps Solutions". Henry zal het met ons gaan hebben over
  de stelling "Scrum is dood\, lang leve Agile!" 17:00 Fayyaz Nazir - Busin
 ess Development Manager MTWO Construction Cloud bij SoftwareONE.  Veel bo
 uwbedrijven denken dat zij hun projecten en processen goed onder controle 
 hebben. Veel organisaties in de bouw lopen nog vast in silo-denken. Elke 
 afdeling is een eiland op zich geworden. Hoe kan je je processen dermate d
 igitaliseren zodat de silo’s en eilanden verdwijnen en gewerkt kan worde
 n op een geïntegreerd platform? Fayyaz neemt ons mee in zijn antwoord op 
 deze vraag. 17:30 Algemene ledenvergadering (ALV) 18:00 Diner  18.45 Roo
 s Godefrooij - Business developer bij Heijmans - Design Thinking voor nie
 uwe waardeproposities in de bouw 20:00 - 21.00 Borrel &amp\; netwerken
DTSTART:20220217T143000Z
DTEND:20220217T200000Z
LOCATION:Locatie78
END:VEVENT
BEGIN:VTIMEZONE
TZID:UTC
BEGIN:STANDARD
DTSTART:20220217T143000
TZNAME:UTC
TZOFFSETTO:+0000
TZOFFSETFROM:+0000
END:STANDARD
END:VTIMEZONE
END:VCALENDAR
